BEGIN:VCALENDAR
VERSION:2.0
PRODID:-//Skånes ornitologiska förening - ECPv6.15.17.1//NONSGML v1.0//EN
CALSCALE:GREGORIAN
METHOD:PUBLISH
X-WR-CALNAME:Skånes ornitologiska förening
X-ORIGINAL-URL:https://skof.se
X-WR-CALDESC:Händelser för Skånes ornitologiska förening
REFRESH-INTERVAL;VALUE=DURATION:PT1H
X-Robots-Tag:noindex
X-PUBLISHED-TTL:PT1H
BEGIN:VTIMEZONE
TZID:Europe/Stockholm
BEGIN:DAYLIGHT
TZOFFSETFROM:+0100
TZOFFSETTO:+0200
TZNAME:CEST
DTSTART:20220327T010000
END:DAYLIGHT
BEGIN:STANDARD
TZOFFSETFROM:+0200
TZOFFSETTO:+0100
TZNAME:CET
DTSTART:20221030T010000
END:STANDARD
BEGIN:DAYLIGHT
TZOFFSETFROM:+0100
TZOFFSETTO:+0200
TZNAME:CEST
DTSTART:20230326T010000
END:DAYLIGHT
BEGIN:STANDARD
TZOFFSETFROM:+0200
TZOFFSETTO:+0100
TZNAME:CET
DTSTART:20231029T010000
END:STANDARD
BEGIN:DAYLIGHT
TZOFFSETFROM:+0100
TZOFFSETTO:+0200
TZNAME:CEST
DTSTART:20240331T010000
END:DAYLIGHT
BEGIN:STANDARD
TZOFFSETFROM:+0200
TZOFFSETTO:+0100
TZNAME:CET
DTSTART:20241027T010000
END:STANDARD
END:VTIMEZONE
BEGIN:VEVENT
DTSTART;TZID=Europe/Stockholm:20230918T190000
DTEND;TZID=Europe/Stockholm:20230918T210000
DTSTAMP:20260421T221512
CREATED:20230815T175134Z
LAST-MODIFIED:20230815T201918Z
UID:12677-1695063600-1695070800@skof.se
SUMMARY:Extra årsmöte + Anders Brodins föredrag "Fångad av fåglar"
DESCRIPTION:SkOF håller extra årsmöte i Lund måndagen 18 september\, kl. 19.00 då andra röstningen angående ändringen av stadgarna för anslutning till BirdLifes ”Kedjan” sker. Se dagordning nedan. \n  \nEfter årsmötet\, som bara innehåller punkten om röstning angående stadgarna\, håller Anders Brodin om föredraget Fångad av fåglar. Föredraget beräknas börja kl. 19.30. \n  \nPlats: Blå Hallen på Ekologihuset\, Sölvegatan 37 i Lund och digitalt via Zoom (föranmälan krävs). Endast insläpp genom huvudingången mot Sölvegatan senast kl 19.15. Parkera på parkeringen vid Sölvegatan 22F i Lund (som är avgiftsbelagd)\, infart dit sker via Ole Römers väg. Promenera sedan hundra meter mot nordväst till Ekologihusets entré. Närmaste spårvagnshållplats heter LTH\, och härifrån är det 150 meter att gå till till Ekologihusets entré. Föredragssalen Blå Hallen ligger in till höger från entrén. \n  \nDu kan även delta digitalt via Zoom. Men för att säkerställa röstlängd vid eventuell röstning under mötet så måste digitalt deltagande föranmälas i ett mejl till Rachel Muheim rachel.muheim@gmail.com senast 14 september. Alla som har anmält sig till digitalt deltagande får därefter en zoom-länk som gäller för årsmötet. \n  \n  \nFöredrag kl. 19:30: Fångad av fåglar – Anders Brodin\nAnders Brodin berättar om sitt passionerade fågelintresse. Ständigt bekantar han sig med nya fågelarter såväl i Sverige som i resten av världen. Anders är professor på Ekologihuset med särskilt fokus på fåglars minne och kognition. Han berättar om varför just fåglar är så fängslande\, om vissa fågelarters specialiserade hjärnor\, deras otroliga minne när det gäller att bygga upp matförråd till vintern\, och deras strategier för att skydda dessa.\nAnders bok Fångad av fåglar recenseras i Anser 2023/3. \n  \n  \nDagordning extra årsmöte kl. 19:00\n\nMötet öppnas\, godkännande av dagordning\nVal av mötesordförande\nVal av sekreterare för mötet\nVal av två justeringspersoner\, tillika rösträknare\nFråga om kallelse behörigen skett\nÄndring av SkOFs stadgar.\nStyrelsen föreslår antagande av nya stadgar för föreningen enligt det förslag som har publicerats i medlemstidskriften Anser 2023 nr 1. Stadgarna utgör BirdLife Sveriges normalstadgar för regionalföreningar med en viss anpassning till SkOF. Ändring av SkOFs stadgar skall för att äga giltighet antas med 2/3 majoritet vid två offentliga\, på varandra följande SkOF-sammanträden\, av vilka det ena skall vara ett ordinarie årsmöte. Föreningens stadgar skall för att vara gällande godkännas av riksföreningen. Vid årsmötet 11 mars 2023 beslutade medlemmarna i enlighet med styrelsens förslag med 56 röster för\, ingen däremot och fyra nedlagda röster. Detta efterföljande extra årsmöte är offentligt möte två.\nÅrsmötet avslutas.\n\nVälkomna! \n  \n  \n 
URL:https://skof.se/evenemang/extra-arsmote-anders-brodins-foredrag-fangad-av-faglar/
LOCATION:Ekologihuset\, Lund\, Sölvegatan 37\, Lund\, Sverige
ATTACH;FMTTYPE=image/jpeg:https://cdn.birdlife.se/wp-content/uploads/sites/53/2023/08/fangad-av-faglar-topp.jpg
GEO:55.714194;13.2081022
X-APPLE-STRUCTURED-LOCATION;VALUE=URI;X-ADDRESS=Ekologihuset Lund Sölvegatan 37 Lund Sverige;X-APPLE-RADIUS=500;X-TITLE=Sölvegatan 37:geo:13.2081022,55.714194
END:VEVENT
END:VCALENDAR