BEGIN:VCALENDAR
VERSION:2.0
PRODID:-//Skånes ornitologiska förening - ECPv6.15.17.1//NONSGML v1.0//EN
CALSCALE:GREGORIAN
METHOD:PUBLISH
X-WR-CALNAME:Skånes ornitologiska förening
X-ORIGINAL-URL:https://skof.se
X-WR-CALDESC:Händelser för Skånes ornitologiska förening
REFRESH-INTERVAL;VALUE=DURATION:PT1H
X-Robots-Tag:noindex
X-PUBLISHED-TTL:PT1H
BEGIN:VTIMEZONE
TZID:Europe/Stockholm
BEGIN:DAYLIGHT
TZOFFSETFROM:+0100
TZOFFSETTO:+0200
TZNAME:CEST
DTSTART:20210328T010000
END:DAYLIGHT
BEGIN:STANDARD
TZOFFSETFROM:+0200
TZOFFSETTO:+0100
TZNAME:CET
DTSTART:20211031T010000
END:STANDARD
BEGIN:DAYLIGHT
TZOFFSETFROM:+0100
TZOFFSETTO:+0200
TZNAME:CEST
DTSTART:20220327T010000
END:DAYLIGHT
BEGIN:STANDARD
TZOFFSETFROM:+0200
TZOFFSETTO:+0100
TZNAME:CET
DTSTART:20221030T010000
END:STANDARD
BEGIN:DAYLIGHT
TZOFFSETFROM:+0100
TZOFFSETTO:+0200
TZNAME:CEST
DTSTART:20230326T010000
END:DAYLIGHT
BEGIN:STANDARD
TZOFFSETFROM:+0200
TZOFFSETTO:+0100
TZNAME:CET
DTSTART:20231029T010000
END:STANDARD
END:VTIMEZONE
BEGIN:VEVENT
DTSTART;TZID=Europe/Stockholm:20221128T190000
DTEND;TZID=Europe/Stockholm:20221128T203000
DTSTAMP:20260422T013300
CREATED:20220906T214807Z
LAST-MODIFIED:20220910T115234Z
UID:8259-1669662000-1669667400@skof.se
SUMMARY:Hur stjärnorna och jordens magnetfält styr flytten hos en australiensisk nattfjäril - Eric Warrant
DESCRIPTION:På detta måndagsföredrag berättar Eric Warrant om hur stjärnorna och jordens magnetfält styr flytten hos en australiensisk nattfjäril. Eric Warrant är professor vid Syngruppen på Biologiska institutionen\, Lunds universitet. Flyttfåglar är kända för sin otroliga förmåga att migrera många tusen kilometer från en specifik plats på jordklotet till en annan\, och mestadels under natten. Under de senaste åren har forskare upptäckt att flyttfåglar styr resan i rätt riktning med hjälp av stjärnorna och ett (fortfarande okänt) magnetsinne som utnyttjar jordens magnetfält som en kompass. Dessutom har de möjlighet att använda stjärnhimmeln som extra kompass. Nu har vi upptäckt en migrerande nattfjäril i Australien – den nattaktiva Bogong moth Agrotis infusa – som har precis samma förmåga\, trots väldigt små ögon och en hjärna som är mindre än ett riskorn. Under Erics presentation kommer han att beskriva nattfjärilens naturhistoria\, hur hans grupp gjorde upptäckterna och vilka konsekvenser upptäckten får för att lösa sinnesbiologins sista stora gåta – var och hur i nervsystemet mäts jordens magnetfält? \n  \nFöredraget börjar kl 19:00 i Blå Hallen på Ekologihuset i Lund. Endast insläpp genom huvudingången mot Sölvegatan senast kl 19.15. \n  \nParkera på parkeringen vid Sölvegatan 22F i Lund (som är avgiftsbelagd)\, infart dit sker via Ole Römers väg. Promenera sedan hundra meter mot nordväst till Ekologihusets entré. Närmaste spårvagnshållplats heter LTH\, och härifrån är det 150 meter att gå till till Ekologihusets entré. Föredragssalen Blå Hallen ligger in till höger från entrén. \n  \nFör att möjliggöra för dem som inte kan komma till Ekologihuset kommer vi även att sända föredragen digitalt via Zoom med denna länk https://lu-se.zoom.us/j/68003855114. Genom att klicka på länken kan man koppla upp sig till föredraget via sin dator\, läsplatta eller mobil\, se föredraget och höra föredragshållaren. Läs mer nedan. OBS! Länken till själva föredraget skall användas först strax före föredraget. \n  \n  \nInstruktioner för att använda Zoom\nStarta upp Zoom\nKlicka på länken https://lu-se.zoom.us/j/68003855114 Om du inte tidigare använt Zoom behöver du ladda ner filen (Zoom_cm_….exe). Har du redan tidigare installerat Zoom så leder länken dig in till mötet\, och då kommer det upp en ruta ”SkOF måndagskvällar”. Är inget möte igång ser man en snurrande cirkel och meddelandet ”Please wait for the host to start this meeting”\, alltså att man ska vänta tills mötet börjar. Så fort mötet börjar blir man automatiskt inkopplad. \n  \nTesta om ljudet på datorn fungerar\nÖppna länken och testa ljudet. Är inget möte på gång – tryck på knappen ”Test Computer Audio”. Är ett möte på gång och man ser bilden men inte hör någonting\, klicka på pilen bredvid mikrofonen som finns längst ner i vänstra hörnet och välj ”Audio Settings…” längst ner i listan. Kolla högst upp under ”Speaker” (högtalare) att volymen är på. Om inte\, flytta den blåa punkten till höger och gör sedan ett test genom att klicka på ”Test Speaker”. I en ruta till höger om ”Test speaker” ska det stå ”Same as system” vilket betyder att datorns högtalare är vald. Om en extern högtalare är inkopplad i datorn och syns i rutan – kolla att den är påslagen och får ström. Alternativt – dra ut högtalarens kabel och använd datorns inbyggda högtalare. \n  \nHur kan man ställa en fråga till föredragshållaren?\nAnvänd ”Chat”-funktionen. Längst ner i mitten på skärmen finns en knapp som heter ”Chat”. Välj den och skriv frågan i det tomma fältet. Skriv frågan i en följd utan ny rad. Observera att så fort man trycker på radomslag så skickas frågan iväg. \n 
URL:https://skof.se/evenemang/hur-stjarnorna-och-jordens-magnetfalt-styr-flytten-hos-en-australiensisk-nattfjaril-eric-warrant/
LOCATION:Ekologihuset\, Lund\, Sölvegatan 37\, Lund\, Sverige
ATTACH;FMTTYPE=image/jpeg:https://cdn.birdlife.se/wp-content/uploads/sites/53/2022/09/EW-22aHost.jpg
GEO:55.714194;13.2081022
X-APPLE-STRUCTURED-LOCATION;VALUE=URI;X-ADDRESS=Ekologihuset Lund Sölvegatan 37 Lund Sverige;X-APPLE-RADIUS=500;X-TITLE=Sölvegatan 37:geo:13.2081022,55.714194
END:VEVENT
END:VCALENDAR