BEGIN:VCALENDAR
VERSION:2.0
PRODID:-//Skånes ornitologiska förening - ECPv6.15.17.1//NONSGML v1.0//EN
CALSCALE:GREGORIAN
METHOD:PUBLISH
X-WR-CALNAME:Skånes ornitologiska förening
X-ORIGINAL-URL:https://skof.se
X-WR-CALDESC:Händelser för Skånes ornitologiska förening
REFRESH-INTERVAL;VALUE=DURATION:PT1H
X-Robots-Tag:noindex
X-PUBLISHED-TTL:PT1H
BEGIN:VTIMEZONE
TZID:Europe/Stockholm
BEGIN:DAYLIGHT
TZOFFSETFROM:+0100
TZOFFSETTO:+0200
TZNAME:CEST
DTSTART:20230326T010000
END:DAYLIGHT
BEGIN:STANDARD
TZOFFSETFROM:+0200
TZOFFSETTO:+0100
TZNAME:CET
DTSTART:20231029T010000
END:STANDARD
BEGIN:DAYLIGHT
TZOFFSETFROM:+0100
TZOFFSETTO:+0200
TZNAME:CEST
DTSTART:20240331T010000
END:DAYLIGHT
BEGIN:STANDARD
TZOFFSETFROM:+0200
TZOFFSETTO:+0100
TZNAME:CET
DTSTART:20241027T010000
END:STANDARD
BEGIN:DAYLIGHT
TZOFFSETFROM:+0100
TZOFFSETTO:+0200
TZNAME:CEST
DTSTART:20250330T010000
END:DAYLIGHT
BEGIN:STANDARD
TZOFFSETFROM:+0200
TZOFFSETTO:+0100
TZNAME:CET
DTSTART:20251026T010000
END:STANDARD
END:VTIMEZONE
BEGIN:VEVENT
DTSTART;TZID=Europe/Stockholm:20240506T180000
DTEND;TZID=Europe/Stockholm:20240506T210000
DTSTAMP:20260421T203719
CREATED:20240228T214110Z
LAST-MODIFIED:20240506T082516Z
UID:14550-1715018400-1715029200@skof.se
SUMMARY:Kvällsexkursion SkOF
DESCRIPTION:I år blir det kvällsexkursioner igen\, nr 134-137:e i ordningen med Peter Elfman! Datum i år blir: 6\, 13\, 20 och 27 maj. \nVäder och vind avgör målet för exkursionerna. Kikare och lämpliga kläder då det kan bli kyligt framåt kvällen. Exkursionen är gratis men kostnaden för bilkörning delas per bil. \n  \nAvfärd från Lund kl 1800:  Samling på parkeringen vid Sigma-huset (mitt emot Ekologihuset) i Lund. Parkeringen nås från Ole Römers väg. I kurvan på gatan kör man in mellan A- och V-husen på LTH Campus-område och hittar sen infarten till parkeringen på vänster sida strax innan spårvagnsspåren. \n  \nExkursionsledare: Peter Elfman. Tel 072-554 06 14 \n  \n 
URL:https://skof.se/evenemang/kvallsexkursion-skof-2/2024-05-06/
LOCATION:P-platsen vid Sölvegatan 22 F\, Sölvegatan 22 F\, Lund\, 22362\, Sverige
ATTACH;FMTTYPE=image/jpeg:https://cdn.birdlife.se/wp-content/uploads/sites/53/2023/08/Gularla1-MIA.jpg
GEO:55.7131792;13.2105248
X-APPLE-STRUCTURED-LOCATION;VALUE=URI;X-ADDRESS=P-platsen vid Sölvegatan 22 F Sölvegatan 22 F Lund 22362 Sverige;X-APPLE-RADIUS=500;X-TITLE=Sölvegatan 22 F:geo:13.2105248,55.7131792
END:VEVENT
END:VCALENDAR