BEGIN:VCALENDAR
VERSION:2.0
PRODID:-//Skånes ornitologiska förening - ECPv6.15.17.1//NONSGML v1.0//EN
CALSCALE:GREGORIAN
METHOD:PUBLISH
X-WR-CALNAME:Skånes ornitologiska förening
X-ORIGINAL-URL:https://skof.se
X-WR-CALDESC:Händelser för Skånes ornitologiska förening
REFRESH-INTERVAL;VALUE=DURATION:PT1H
X-Robots-Tag:noindex
X-PUBLISHED-TTL:PT1H
BEGIN:VTIMEZONE
TZID:Europe/Stockholm
BEGIN:DAYLIGHT
TZOFFSETFROM:+0100
TZOFFSETTO:+0200
TZNAME:CEST
DTSTART:20220327T010000
END:DAYLIGHT
BEGIN:STANDARD
TZOFFSETFROM:+0200
TZOFFSETTO:+0100
TZNAME:CET
DTSTART:20221030T010000
END:STANDARD
BEGIN:DAYLIGHT
TZOFFSETFROM:+0100
TZOFFSETTO:+0200
TZNAME:CEST
DTSTART:20230326T010000
END:DAYLIGHT
BEGIN:STANDARD
TZOFFSETFROM:+0200
TZOFFSETTO:+0100
TZNAME:CET
DTSTART:20231029T010000
END:STANDARD
BEGIN:DAYLIGHT
TZOFFSETFROM:+0100
TZOFFSETTO:+0200
TZNAME:CEST
DTSTART:20240331T010000
END:DAYLIGHT
BEGIN:STANDARD
TZOFFSETFROM:+0200
TZOFFSETTO:+0100
TZNAME:CET
DTSTART:20241027T010000
END:STANDARD
END:VTIMEZONE
BEGIN:VEVENT
DTSTART;TZID=Europe/Stockholm:20230213T190000
DTEND;TZID=Europe/Stockholm:20230213T203000
DTSTAMP:20260421T221429
CREATED:20221220T190142Z
LAST-MODIFIED:20221220T190142Z
UID:10040-1676314800-1676320200@skof.se
SUMMARY:Natur i Gambia - Mikael Arinder
DESCRIPTION:Västafrikanska Gambia är ett charterresmål som hängt med sedan 60-talet. Men här ﬁnns mycket mer att se än bara sol och bad. Mikael berättar och visar bilder från sin novemberresa i Gambia. Landet bjuder på enastående fågelskådning med exotiska fåglar i färgsprakande dräkter. Här möter man såväl lokala västafrikanska arter som övervintrande fåglar från Europa. \n  \nEtt besök i Gambia är så mycket Afrika en resa kan bli. Starka intryck från den fattiga gambiska landsbygden och den smockfulla färjan över Gambiaﬂoden blandas med natursköna vyer och möten med krokodiler och apor. Bildvisningen börjar vid mangroveträsk och saliner vid Atlantkusten\, och fortsätter inåt landet genom våtmarker\, galleriskog\, torr guineasavann\, tät högstammig djungel med lianer\, gröna risfält\, jordnötsodlingar och mangrovebuskage. Fågel- och djurbilder varvas med bilder på människor och miljö. \n  \nMikael är en driven fågelfotograf och vice ordförande i SkOF. \n  \nFöredraget börjar kl 19:00 i Blå Hallen på Ekologihuset i Lund. Endast insläpp genom huvudingången mot Sölvegatan senast kl 19.15. \n  \nParkera på parkeringen vid Sölvegatan 22F i Lund (som är avgiftsbelagd)\, infart dit sker via Ole Römers väg. Promenera sedan hundra meter mot nordväst till Ekologihusets entré. Närmaste spårvagnshållplats heter LTH\, och härifrån är det 150 meter att gå till till Ekologihusets entré. Föredragssalen Blå Hallen ligger in till höger från entrén. \n  \nFör att möjliggöra för dem som inte kan komma till Ekologihuset kommer vi även att sända föredragen digitalt via Zoom med denna länk https://lu-se.zoom.us/j/68003855114. Genom att klicka på länken kan man koppla upp sig till föredraget via sin dator\, läsplatta eller mobil\, se föredraget och höra föredragshållaren. Läs mer nedan. OBS! Länken till själva föredraget skall användas först strax före föredraget. \n  \n  \nInstruktioner för att använda Zoom\nStarta upp Zoom\nKlicka på länken https://lu-se.zoom.us/j/68003855114 Om du inte tidigare använt Zoom behöver du ladda ner filen (Zoom_cm_….exe). Har du redan tidigare installerat Zoom så leder länken dig in till mötet\, och då kommer det upp en ruta ”SkOF måndagskvällar”. Är inget möte igång ser man en snurrande cirkel och meddelandet ”Please wait for the host to start this meeting”\, alltså att man ska vänta tills mötet börjar. Så fort mötet börjar blir man automatiskt inkopplad. \n  \nTesta om ljudet på datorn fungerar\nÖppna länken och testa ljudet. Är inget möte på gång – tryck på knappen ”Test Computer Audio”. Är ett möte på gång och man ser bilden men inte hör någonting\, klicka på pilen bredvid mikrofonen som finns längst ner i vänstra hörnet och välj ”Audio Settings…” längst ner i listan. Kolla högst upp under ”Speaker” (högtalare) att volymen är på. Om inte\, flytta den blåa punkten till höger och gör sedan ett test genom att klicka på ”Test Speaker”. I en ruta till höger om ”Test speaker” ska det stå ”Same as system” vilket betyder att datorns högtalare är vald. Om en extern högtalare är inkopplad i datorn och syns i rutan – kolla att den är påslagen och får ström. Alternativt – dra ut högtalarens kabel och använd datorns inbyggda högtalare. \n  \nHur kan man ställa en fråga till föredragshållaren?\nAnvänd ”Chat”-funktionen. Längst ner i mitten på skärmen finns en knapp som heter ”Chat”. Välj den och skriv frågan i det tomma fältet. Skriv frågan i en följd utan ny rad. Observera att så fort man trycker på radomslag så skickas frågan iväg.
URL:https://skof.se/evenemang/natur-i-gambia-mikael-arinder/
LOCATION:Ekologihuset\, Lund\, Sölvegatan 37\, Lund\, Sverige
ATTACH;FMTTYPE=image/jpeg:https://cdn.birdlife.se/wp-content/uploads/sites/53/2022/12/Gambiaresan-M_Arinder.jpg
GEO:55.714194;13.2081022
X-APPLE-STRUCTURED-LOCATION;VALUE=URI;X-ADDRESS=Ekologihuset Lund Sölvegatan 37 Lund Sverige;X-APPLE-RADIUS=500;X-TITLE=Sölvegatan 37:geo:13.2081022,55.714194
END:VEVENT
END:VCALENDAR