BEGIN:VCALENDAR
VERSION:2.0
PRODID:-//Skånes ornitologiska förening - ECPv6.15.17.1//NONSGML v1.0//EN
CALSCALE:GREGORIAN
METHOD:PUBLISH
X-WR-CALNAME:Skånes ornitologiska förening
X-ORIGINAL-URL:https://skof.se
X-WR-CALDESC:Händelser för Skånes ornitologiska förening
REFRESH-INTERVAL;VALUE=DURATION:PT1H
X-Robots-Tag:noindex
X-PUBLISHED-TTL:PT1H
BEGIN:VTIMEZONE
TZID:Europe/Stockholm
BEGIN:DAYLIGHT
TZOFFSETFROM:+0100
TZOFFSETTO:+0200
TZNAME:CEST
DTSTART:20210328T010000
END:DAYLIGHT
BEGIN:STANDARD
TZOFFSETFROM:+0200
TZOFFSETTO:+0100
TZNAME:CET
DTSTART:20211031T010000
END:STANDARD
BEGIN:DAYLIGHT
TZOFFSETFROM:+0100
TZOFFSETTO:+0200
TZNAME:CEST
DTSTART:20220327T010000
END:DAYLIGHT
BEGIN:STANDARD
TZOFFSETFROM:+0200
TZOFFSETTO:+0100
TZNAME:CET
DTSTART:20221030T010000
END:STANDARD
BEGIN:DAYLIGHT
TZOFFSETFROM:+0100
TZOFFSETTO:+0200
TZNAME:CEST
DTSTART:20230326T010000
END:DAYLIGHT
BEGIN:STANDARD
TZOFFSETFROM:+0200
TZOFFSETTO:+0100
TZNAME:CET
DTSTART:20231029T010000
END:STANDARD
END:VTIMEZONE
BEGIN:VEVENT
DTSTART;TZID=Europe/Stockholm:20220502T180000
DTEND;TZID=Europe/Stockholm:20220502T210000
DTSTAMP:20260422T012026
CREATED:20220315T214922Z
LAST-MODIFIED:20220317T221144Z
UID:5171-1651514400-1651525200@skof.se
SUMMARY:SkOF-kvällsexkursion
DESCRIPTION:Välkommen på SkOFs kvällsexkursion med Peter Elfman.\nVäder och vind avgör målet för exkursionen. Kikare och lämpliga kläder då det kan bli kyligt framåt kvällen.\nSamlingsplats kl 18 (prick\, prick) på parkeringen vid Sigma-huset (mitt emot Ekologihuset) i Lund. Parkeringen nås från Ole Römers väg. I kurvan på gatan kör man in mellan A- och V-husen på LTH Campus-område och hittar sen infarten till parkeringen på vänster sida.\nExkursionen är gratis\, men kostnaden för bilkörning delas per bil.\nExkursionsledare: Peter Elfman\, 072-554 06 14.
URL:https://skof.se/evenemang/skofs-kvallsexkursioner/2022-05-02/
LOCATION:P-platsen vid Sölvegatan 22 F\, Sölvegatan 22 F\, Lund\, 22362\, Sverige
ATTACH;FMTTYPE=image/jpeg:https://cdn.birdlife.se/wp-content/uploads/sites/53/2022/03/Dvargmas01-MIA.jpg
GEO:55.7131792;13.2105248
X-APPLE-STRUCTURED-LOCATION;VALUE=URI;X-ADDRESS=P-platsen vid Sölvegatan 22 F Sölvegatan 22 F Lund 22362 Sverige;X-APPLE-RADIUS=500;X-TITLE=Sölvegatan 22 F:geo:13.2105248,55.7131792
END:VEVENT
END:VCALENDAR